Workbook
Name Beschreibung: #REF!
Name Ressourcenplanung: [1]Ressourcenplanung!$A$2:$J$52

Sheet Projektstrukturplan
A1: Arbeitspaket | B1: Meilenstein | C1: Nr. | D1: Abnahmepaket/Aktivität | E1: Ergebnisse | F1: von (Plan) | G1: bis (Plan) | H1: von (Ist) | I1: bis (Ist) | J1: Plan-Sachkosten (in EUR) | K1: Ist- Sachkosten (in EUR) | L1: Plan-Aufwand (PT) | M1: Ist-Aufwand (PT) | N1: Plan-Personalkosten (in EUR) | O1: Ist-Personalkosten (in EUR) | P1: Tagsatz (in EUR) | Q1: Umsetzungs-verantwortlicher (Mitarbeiter) | R1: Status | S1: Anmerkungen und Darstellung der Sachkosten | T1: Probleme/ Maßnahmen/Ergebnisse
A2: Name der Institution und Projekttitel
A3: 0. Querschnittsaufgaben | J3: =SUM(J4:J8) -> 0 | K3: =SUM(K4:K8) -> 0 | L3: =SUM(L4:L8) -> 0 | M3: =SUM(M4:M8) -> 45 | N3: =SUM(N4:N8) -> 0 | O3: =SUM(O4:O8) -> 103.5
C4: 0.1 | D4: Projektplanung für 4 Jahre erstellen. | E4: Der PSP ist inkl. Budget vollständig befüllt. | J4: 0 | L4: 0 | M4: 45 | N4: =L4*P4 -> 0 | O4: =M4*P4 -> 103.5 | P4: 2.3 | Q4: PL | R4: in Arbeit
C5: 0.2 | D5: Projektstruktur festlegen. | E5: Ein Projektorganigramm liegt vor. | J5: 0 | L5: 0 | N5: =L5*P5 -> 0 | O5: =M5*P5 -> 0 | P5: 0 | Q5: PL
C6: 0.3 | N6: =L6*P6 -> 0 | O6: =M6*P6 -> 0
C7: 0.4 | N7: =L7*P7 -> 0 | O7: =M7*P7 -> 0
C8: 0.5 | N8: =L8*P8 -> 0 | O8: =M8*P8 -> 0
A9: 1. Arbeitspaket Projektstrukturplan erstellen | J9: =SUM(J10:J21) -> 0 | K9: =SUM(K10:K21) -> 0 | L9: =SUM(L10:L21) -> 0 | M9: =SUM(M10:M21) -> 0 | N9: =SUM(N10:N21) -> 0 | O9: =SUM(O10:O21) -> 0
C10: 1.1 | D10: Excel-Dokument anlegen. | E10: Excel-Dokument ist formatiert und im PH-Ordner gespeichert. | J10: 0 | K10: 0 | L10: 0 | M10: 0 | N10: =L10*P10 -> 0 | O10: =M10*P10 -> 0 | P10: 0 | R10: erledigt
C11: 1.2 | D11: Arbeitspakete planen | E11: Alle Arbeitspakete sind geplant, budgetiert und im PSP eingetragen. | J11: 0 | K11: 0 | L11: 0 | N11: =L11*P11 -> 0 | O11: =M11*P11 -> 0 | P11: 0 | Q11: PL | R11: offen
B12: Meilenstein 1: PSP ist fertig. | N12: =L12*P12 -> 0 | O12: =M12*P12 -> 0
C13: 1.3 | N13: =L13*P13 -> 0 | O13: =M13*P13 -> 0
C14: 1.4 | N14: =L14*P14 -> 0 | O14: =M14*P14 -> 0
C15: 1.5 | N15: =L15*P15 -> 0 | O15: =M15*P15 -> 0
C16: 1.6 | N16: =L16*P16 -> 0 | O16: =M16*P16 -> 0
C17: 1.7 | N17: =L17*P17 -> 0 | O17: =M17*P17 -> 0
C18: 1.8 | N18: =L18*P18 -> 0 | O18: =M18*P18 -> 0
C19: 1.9 | N19: =L19*P19 -> 0 | O19: =M19*P19 -> 0
C20: 1.10 | N20: =L20*P20 -> 0 | O20: =M20*P20 -> 0
B21: Meilenstein 2: xyz | N21: =L21*P21 -> 0 | O21: =M21*P21 -> 0
A22: 2. Arbeitspaket xy | J22: =SUM(J23:J33) -> 0 | K22: =SUM(K23:K33) -> 0 | L22: =SUM(L23:L33) -> 0 | M22: =SUM(M23:M33) -> 0 | N22: =SUM(N23:N33) -> 0 | O22: =SUM(O23:O33) -> 0
C23: 2.1 | N23: =L23*$P23 -> 0 | O23: =M23*$P23 -> 0
C24: 2.2 | N24: =L24*$P24 -> 0 | O24: =M24*$P24 -> 0
C25: 2.3 | N25: =L25*$P25 -> 0 | O25: =M25*$P25 -> 0
C26: 2.4 | N26: =L26*$P26 -> 0 | O26: =M26*$P26 -> 0
C27: 2.5 | N27: =L27*$P27 -> 0 | O27: =M27*$P27 -> 0
C28: 2.6 | N28: =L28*$P28 -> 0 | O28: =M28*$P28 -> 0
C29: 2.7 | N29: =L29*$P29 -> 0 | O29: =M29*$P29 -> 0
C30: 2.8 | N30: =L30*$P30 -> 0 | O30: =M30*$P30 -> 0
C31: 2.9 | N31: =L31*$P31 -> 0 | O31: =M31*$P31 -> 0
C32: 2.10 | N32: =L32*$P32 -> 0 | O32: =M32*$P32 -> 0
B33: Meilenstein 2: xyz | N33: =L33*$P33 -> 0 | O33: =M33*$P33 -> 0
J34: =SUM(J35:J45) -> 0 | K34: =SUM(K35:K45) -> 0 | L34: =SUM(L35:L45) -> 0 | M34: =SUM(M35:M45) -> 0 | N34: =SUM(N35:N45) -> 0 | O34: =SUM(O35:O45) -> 0
C35: 3.1 | N35: =L35*$P35 -> 0 | O35: =M35*$P35 -> 0
C36: 3.2 | N36: =L36*$P36 -> 0 | O36: =M36*$P36 -> 0
C37: 3.3 | N37: =L37*$P37 -> 0 | O37: =M37*$P37 -> 0
C38: 3.4 | N38: =L38*$P38 -> 0 | O38: =M38*$P38 -> 0
C39: 3.5 | N39: =L39*$P39 -> 0 | O39: =M39*$P39 -> 0
C40: 3.6 | N40: =L40*$P40 -> 0 | O40: =M40*$P40 -> 0
...

Sheet Hilfestellungen zum Ausfüllen
A1: Grundsätzliches: Der Projektstrukturplan (PSP) ist eine Gliederung des Projekts in planbare und kontrollierbare Teilaufgaben. Dazu werden die gesamten Projektaufgaben in überschaubare, klar definierte Arbeitspakete gegliedert. Der Projektstrukturplan stellt die gesamte Projektleistung (Projektaufgabe) graphisch dar und ist die gemeinsame Basis für die Ablauf,- Termin- und Kostenplanung. Das Projekt wird mit den Gesamtkosten dargestellt, auch wenn diese die Förderrungssumme übersteigen.
A2: Felderbezeichnung | B2: Erklärung/Ausfüllhilfe | C2: Wann ist das Feld aufzufüllen?
A3: Name der Institution und Projekttitel | B3: Tragen Sie hier bitte den Namen Ihrer Institution und den Projekttitel ein | C3: bei Antragstellung
A4: Arbeitspaket | B4: Wie heißt das Arbeitspaket, z.B. Bedarfsanalyse zur Zielgruppe | C4: bei Antragstellung
B5: Zweck dieser Projektplanungsaufgabe ist es, die Arbeitspakete oder Teilaufgaben zu ermitteln, die voraussichtlich zur Erreichung des Projektzieles notwendig sein werden. In jedem Projekt sind verpflichtend Arbeitspakete auszuweisen. Arbeitspakete sind in Teilschritte zu gliedern --> s.a. Abnahmepakete/Aktivität.
A6: Meilenstein | B6: Meilensteine sind Ereignisse besonderer Bedeutung und definieren häufig Phasenübergänge; ein Meilenstein steht für ein definiertes Sachergebnis, gekoppelt an einen Fertigstellungstermin. Im Projektmanagement sind diese Ereignisse meist Unter- bzw. Zwischenziele eines Projektes. Die Überprüfung der Erreichung dieser Meilensteine ist Bestandteil des Projekt-Controllings. Grundregeln für Meilensteine:  kontrollierbar  für alle Beteiligten verständlich  nicht mehr als 10-15 Meilensteine in einem Projekt, abhängig von Thema und Projektdauer  in angemessenen Abständen angeordnet  sie geben die für das Erreichen des Projektziels definierten Sachergebnisse wieder: Wie heißt der Meilenstein, z.B. Bedarfsanalyse zur Zielgruppe liegt in Form eines Berichtes vor.  Ein Meilenstein ist mit Datum zu versehen | C6: bei Antragstellung in der Spalte "bis (Plan)" sowie sämtliche Summen (z.B. Soll-Kosten und Soll-Aufwände, etc.); Zwischenberichtslegung/laufend im Projekt/Projektendbericht: wenn der Meilenstein erreicht wurde in der Spalte "bis (Ist)"
A7: Abnahmepaket/Aktivität | B7: Was soll getan werden? Hier soll die konkrete Aktivität beschrieben werden, dh. es soll ein Verb im Text vorkommen; z.B. Bedürfnisanalyse in der Region xy durchführen. Es ist entscheidend, dass jedem Abnahmepaket ein*e Projektmitarbeiter*in zugewiesen wird, der*die für die termintreue Erledigung verantwortlich ist und der Projektleitung über den Fortschritt berichtet. Die Granularität dieser Teilschritte bleibt der Projektleitung überlassen, jedoch sollten diese für Dritte nachvollziehbar sein. | C7: bei Antragstellung
A8: Ergebnisse | B8: Was ist das Ergebnis der Aktivität; Was soll bei Beendigung vorliegen (zB. Bericht, Befragungsergebnisse etc.); Welcher Inhalt wird von der Aktivität erwartet? z.B. Bedürfnisse der Zielgruppe in Hinblick auf xy sind analysiert und in einem Bericht als weitere Planungsgrundlage dargestellt | C8: bei Antragstellung
A9: Blaue Felder = Zeitplan
A10: von (Plan) / bis (Plan) | B10: Hier ist der geplante Start /das geplante Ende der Aktivität einzutragen - mit welchen Datum ist geplant, eine Aktivität zu beginnen bzw. zu beenden. | C10: NUR bei Antragstellung auszufüllen!
A11: von (Ist) / bis (Ist) | B11: Hier ist der tatsächliche Start/das tatsächliche Ende der Aktivität einzutragen: Dieses Datum kann vom geplanten Start/geplanten Ende abweichen, wenn entweder früher oder mit einer zeitlichen Verzögerung eine Aktivität gestartet wird. Das tatsächliche Ende kann nicht in der Zukunft liegen. | C11: Zwischenberichtslegung/laufend im Projekt/Projektendbericht; auf allfällige Abweichungen zum geplanten Start/Ende einer Aktivität kann gegebenenfalls im Feld "Probleme / Maßnahmen / Ergebnisse" hingewiesen werden (zB. Begründungen für Verzögerungen).
A12: Grüne Felder = Sach- und Reisekosten Achtung: Unter "Sachkosten" sollen Reisekosten und andere Sachkosten dargestellt werden. Für eine spezifische Beschreibung der Kosten nutzen Sie bitte das Feld "Anmerkung und Darstellung der Sachkosten"; für Reisekosten und -spesen ist zusätzlich eine eigene Aufstellung zu führen (Belegverzeichnis)
A13: =Projektstrukturplan!J1 -> Plan-Sachkosten (in EUR) | B13: Hier sind die geplanten Reise- und Sachkosten einzutragen (Angabe in EURO, welche Kosten für die einzelnen Aktivitäten voraussichtlich aufzuwenden sein werden.) | C13: NUR bei Antragstellung auszufüllen!
A14: =Projektstrukturplan!K1 -> Ist- Sachkosten (in EUR) | B14: Hier sind die tatsächlichen Reise- und Sachkosten einzutragen (Angabe in EURO, wie hoch die tatsächlichen Kosten für eine Aktivität waren.) Achtung: Dieser Betrag muss im Rahmen der Projektabrechnung mit den Abrechnungsunterlagen (Belegverzeichnis und gesonderte Aufstellung für Reisekosten) übereinstimmen. | C14: Zwischenberichtslegung/laufend im Projekt/Projektendbericht; auf allfällige Abweichungen zu den ursprünglich geplanten Kosten (zB: Mehraufwände) kann gegebenenfalls im Feld "Anmerkungen und Darstellung der Sachkosten" hingewiesen werden (zB. Begründungen für höhere Kosten).
A15: Orange Felder = Personalaufwand und -kosten, Ressourcen und Kostenplanung Es wird unterschieden nach Finanzressourcen (Sachkosten) und Personalressourcen (Personentage), die zur Durchführung von Aufgaben benötigt werden. In diesem Planungsschritt werden nun die konkreten Personalressourcen ermittelt. Dafür werden die Arbeitspakete in Bezug auf erforderlichen Personalaufwand in Personentagen analysiert.
A16: =Projektstrukturplan!L1 -> Plan-Aufwand (PT) | B16: Wie viele PT (PT=Personaltage) wird die Aktivität geplanterweise in Anspruch nehmen? | C16: NUR bei Antragstellung auszufüllen! Bitte geben Sie im Feld "Probleme / Maßnahmen / Ergebnisse" einmalig an, wie vielen Personalstunden ein Personaltag entspricht.
A17: =Projektstrukturplan!M1 -> Ist-Aufwand (PT) | B17: Wie viele PT wurden für die Aktivität tatsächlich gebraucht? Achtung: Dieser Wert muss im Rahmen der Projektabrechnung mit den Abrechnungsunterlagen (Belegverzeichnis) übereinstimmen. | C17: Zwischenberichtslegung/laufend im Projekt/Projektendbericht; auf allfällige Abweichungen zu den ursprünglich geplanten Personalaufwänden (zB: Mehraufwände) kann gegebenenfalls im Feld "Probleme / Maßnahmen / Ergebnisse" hingewiesen werden (zB. Begründungen für den Verbrauch von mehr Personaltagen als geplant).
A18: =Projektstrukturplan!N1 -> Plan-Personalkosten (in EUR) | B18: Wie hoch werden die Personalkosten geplanterweise sein? Die Personalkosten sind die Summe der Personaltage multipliziert mit dem Tagsatz. | C18: NUR bei Antragstellung auszufüllen!
A19: =Projektstrukturplan!O1 -> Ist-Personalkosten (in EUR) | B19: (in EUR): Wie hoch waren die tatsächlichen Personalkosten? Achtung: Dieser Betrag muss im Rahmen der Projektabrechnung mit den Abrechnungsunterlagen (Belegverzeichnis) übereinstimmen. | C19: Zwischenberichtslegung/laufend im Projekt/Projektendbericht; auf allfällige Abweichungen gegenüber den geplanten Personalkosten kann im Feld "Probleme / Maßnahmen / Ergebnisse" hingewiesen werden (Begründung).
A20: =Projektstrukturplan!P1 -> Tagsatz (in EUR) | B20: Mit welchem Tagsatz wird gerechnet? Wenn unterschiedliche Tagsätze in einem Abnahmepaket zum Tragen kommen, müssen alle angeführt werden. Die Berechnung der Personalkosten muss nachvollziehbar dargestellt werden. | C20: NUR bei Antragstellung auszufüllen! Bitte erklären Sie im Feld "Probleme / Maßnahmen / Ergebnisse" kurz und nachvollziehbar, wie der jeweilige Tagsatz berechnet wurde. Sollte sich der Tagsatz im Rahmen der Projektlaufzeit ändern, ist dies im Feld "Probleme / Maßnahmen / Ergebnisse" inkl. einer Begründung festzuhalten.
A21: =Projektstrukturplan!S1 -> Anmerkungen und Darstellung der Sachkosten | B21: In diesem Feld kann eingetragen werden: -Beschreibung der Sachkosten (zB. Produktion Flyer, externe Raummieten, Honorare für Vortragende) -sonstige zusätzliche Anmerkungen zur Erläuterung der Sachkosten | C21: bei Bedarf bzw. bei Darstellung der Kosten (Sach- oder Reisekosten)
A22: =Projektstrukturplan!T1 -> Probleme/ Maßnahmen/Ergebnisse | B22: - Welche Probleme sind aufgetaucht und wie wurde darauf reagiert? - In diesem Feld kann auch beschrieben werden, was sich bei den Aktivitäten geändert hat: Was hat sich bei der Aktivität geändert und warum? Wie wird die Aktivität nun abgewickelt? - Darstellung einer Zeitverschiebung: Warum kann eine Aktivität nicht in der geplanten Zeit abgewickelt werden? | C22: Erklärungen bei Antragsstellung Zwischenberichtslegung/laufend im Projekt/Projektendbericht

Sheet drop down
A1: offen
A2: in Arbeit
A3: erledigt

Sheet Zeitplan
A1: Legende: | B1: Arbeitspaket
B2: Meilenstein
A3: Nach dem Vorliegen der Leistungsplanung, inklusive aller Arbeitspakete und der Meilensteine, werden die Termine fixiert. Diese können in einem Balkenplan (Gantt – Diagramm) dargestellt werden. Der Vorteil besteht darin, dass dabei der zeitliche Ablauf und auch die Abhängigkeiten zwischen den Arbeitspaketen klar erkennbar sind.
A4: Zeitplan
A5: =Projektstrukturplan!A2 -> Name der Institution und Projekttitel
A6: AP-Nr | B6: Bezeichnung | C6: Start | D6: Ende | E6: 2018 | Q6: 2019 | AC6: 2020
E7: Jän. | F7: Feb. | G7: März | H7: Apr. | I7: Mai | J7: Juni | K7: Juli | L7: Aug. | M7: Sep. | N7: Okt. | O7: Nov. | P7: Dez. | Q7: Jän. | R7: Feb. | S7: März | T7: Apr. | U7: Mai | V7: Juni | W7: Juli | X7: Aug. | Y7: Sep. | Z7: Okt | AA7: Nov. | AB7: Dez. | AC7: Jän. | AD7: Feb. | AE7: März | AF7: Apr. | AG7: Mai | AH7: Juni | AI7: Juli | AJ7: Aug. | AK7: Sep. | AL7: Okt. | AM7: Nov. | AN7: Dez.
A8: =Projektstrukturplan!A3 -> 0. Querschnittsaufgaben
A9: =Projektstrukturplan!C4 -> 0.1 | B9: =Projektstrukturplan!D4 -> Projektplanung für 4 Jahre erstellen. | C9: =Projektstrukturplan!F4 -> 0 | D9: =Projektstrukturplan!G4 -> 0
A10: =Projektstrukturplan!C5 -> 0.2 | B10: =Projektstrukturplan!D5 -> Projektstruktur festlegen. | C10: =Projektstrukturplan!F5 -> 0 | D10: =Projektstrukturplan!G5 -> 0
A11: =Projektstrukturplan!C6 -> 0.3 | B11: =Projektstrukturplan!D6 -> 0
A12: =Projektstrukturplan!C7 -> 0.4 | B12: =Projektstrukturplan!D7 -> 0
A13: =Projektstrukturplan!C8 -> 0.5 | B13: =Projektstrukturplan!D8 -> 0
A14: =Projektstrukturplan!A9 -> 1. Arbeitspaket Projektstrukturplan erstellen
A15: =Projektstrukturplan!C10 -> 1.1 | B15: =Projektstrukturplan!D10 -> Excel-Dokument anlegen. | C15: =Projektstrukturplan!F10 -> 0 | D15: =Projektstrukturplan!G10 -> 0
A16: =Projektstrukturplan!C11 -> 1.2 | B16: =Projektstrukturplan!D11 -> Arbeitspakete planen | C16: =Projektstrukturplan!F11 -> 0 | D16: =Projektstrukturplan!G11 -> 0
A17: =Projektstrukturplan!A22 -> 2. Arbeitspaket xy | C17: =Projektstrukturplan!F12 -> 0 | D17: =Projektstrukturplan!G12 -> 0
A18: =Projektstrukturplan!C13 -> 1.3 | B18: =Projektstrukturplan!D14 -> 0 | C18: =Projektstrukturplan!F13 -> 0 | D18: =Projektstrukturplan!G13 -> 0
A19: =Projektstrukturplan!C14 -> 1.4 | C19: =Projektstrukturplan!F14 -> 0 | D19: =Projektstrukturplan!G14 -> 0
A20: =Projektstrukturplan!C15 -> 1.5 | B20: =Projektstrukturplan!D15 -> 0 | C20: =Projektstrukturplan!F15 -> 0 | D20: =Projektstrukturplan!G15 -> 0
A21: =Projektstrukturplan!C16 -> 1.6 | B21: =Projektstrukturplan!D16 -> 0 | C21: =Projektstrukturplan!F16 -> 0 | D21: =Projektstrukturplan!G16 -> 0
A22: =Projektstrukturplan!C17 -> 1.7 | B22: =Projektstrukturplan!D17 -> 0 | C22: =Projektstrukturplan!F17 -> 0 | D22: =Projektstrukturplan!G17 -> 0
A23: =Projektstrukturplan!C18 -> 1.8 | B23: =Projektstrukturplan!D18 -> 0 | C23: =Projektstrukturplan!F18 -> 0 | D23: =Projektstrukturplan!G18 -> 0
A24: =Projektstrukturplan!C19 -> 1.9 | B24: =Projektstrukturplan!D19 -> 0 | C24: =Projektstrukturplan!F19 -> 0 | D24: =Projektstrukturplan!G19 -> 0
A25: =Projektstrukturplan!C20 -> 1.10 | B25: =Projektstrukturplan!D20 -> 0 | C25: =Projektstrukturplan!F20 -> 0 | D25: =Projektstrukturplan!G20 -> 0
A26: =Projektstrukturplan!C21 -> 0 | B26: =Projektstrukturplan!D21 -> 0 | C26: =Projektstrukturplan!F21 -> 0 | D26: =Projektstrukturplan!G21 -> 0
A27: =Projektstrukturplan!C22 -> 0 | B27: =Projektstrukturplan!D22 -> 0 | C27: =Projektstrukturplan!F22 -> 0 | D27: =Projektstrukturplan!G22 -> 0
A28: =Projektstrukturplan!C23 -> 2.1 | B28: =Projektstrukturplan!D23 -> 0 | C28: =Projektstrukturplan!F23 -> 0 | D28: =Projektstrukturplan!G23 -> 0
A29: =Projektstrukturplan!C24 -> 2.2 | B29: =Projektstrukturplan!D24 -> 0 | C29: =Projektstrukturplan!F24 -> 0 | D29: =Projektstrukturplan!G24 -> 0
A30: =Projektstrukturplan!C25 -> 2.3 | B30: =Projektstrukturplan!A34 -> 0 | C30: =Projektstrukturplan!F25 -> 0 | D30: =Projektstrukturplan!G25 -> 0
A31: =Projektstrukturplan!C26 -> 2.4 | B31: =Projektstrukturplan!D26 -> 0 | C31: =Projektstrukturplan!F26 -> 0 | D31: =Projektstrukturplan!G26 -> 0
A32: =Projektstrukturplan!C27 -> 2.5 | B32: =Projektstrukturplan!D27 -> 0 | C32: =Projektstrukturplan!F27 -> 0 | D32: =Projektstrukturplan!G27 -> 0
A33: =Projektstrukturplan!C28 -> 2.6 | B33: =Projektstrukturplan!D28 -> 0 | C33: =Projektstrukturplan!F28 -> 0 | D33: =Projektstrukturplan!G28 -> 0
A34: =Projektstrukturplan!C29 -> 2.7 | B34: =Projektstrukturplan!D29 -> 0 | C34: =Projektstrukturplan!F29 -> 0 | D34: =Projektstrukturplan!G29 -> 0
A35: =Projektstrukturplan!C30 -> 2.8 | B35: =Projektstrukturplan!D30 -> 0 | C35: =Projektstrukturplan!F30 -> 0 | D35: =Projektstrukturplan!G30 -> 0
A36: =Projektstrukturplan!C31 -> 2.9 | B36: =Projektstrukturplan!D31 -> 0 | C36: =Projektstrukturplan!F31 -> 0 | D36: =Projektstrukturplan!G31 -> 0
A37: =Projektstrukturplan!C32 -> 2.10 | B37: =Projektstrukturplan!D32 -> 0 | C37: =Projektstrukturplan!F32 -> 0 | D37: =Projektstrukturplan!G32 -> 0
A38: =Projektstrukturplan!C33 -> 0 | B38: =Projektstrukturplan!D33 -> 0 | C38: =Projektstrukturplan!F33 -> 0 | D38: =Projektstrukturplan!G33 -> 0
A39: =Projektstrukturplan!C34 -> 0 | B39: =Projektstrukturplan!D34 -> 0 | C39: =Projektstrukturplan!F34 -> 0 | D39: =Projektstrukturplan!G34 -> 0
A40: =Projektstrukturplan!C35 -> 3.1 | B40: =Projektstrukturplan!D35 -> 0 | C40: =Projektstrukturplan!F35 -> 0 | D40: =Projektstrukturplan!G35 -> 0
...
